BEGIN:VCALENDAR
VERSION:2.0
PRODID:-//CT Knowledge Base - ECPv6.15.20//NONSGML v1.0//EN
CALSCALE:GREGORIAN
METHOD:PUBLISH
X-WR-CALNAME:CT Knowledge Base
X-ORIGINAL-URL:https://kb.ct-group.com
X-WR-CALDESC:Events for CT Knowledge Base
REFRESH-INTERVAL;VALUE=DURATION:PT1H
X-Robots-Tag:noindex
X-PUBLISHED-TTL:PT1H
BEGIN:VTIMEZONE
TZID:Europe/London
BEGIN:DAYLIGHT
TZOFFSETFROM:+0000
TZOFFSETTO:+0100
TZNAME:BST
DTSTART:20230326T010000
END:DAYLIGHT
BEGIN:STANDARD
TZOFFSETFROM:+0100
TZOFFSETTO:+0000
TZNAME:GMT
DTSTART:20231029T010000
END:STANDARD
BEGIN:DAYLIGHT
TZOFFSETFROM:+0000
TZOFFSETTO:+0100
TZNAME:BST
DTSTART:20240331T010000
END:DAYLIGHT
BEGIN:STANDARD
TZOFFSETFROM:+0100
TZOFFSETTO:+0000
TZNAME:GMT
DTSTART:20241027T010000
END:STANDARD
BEGIN:DAYLIGHT
TZOFFSETFROM:+0000
TZOFFSETTO:+0100
TZNAME:BST
DTSTART:20250330T010000
END:DAYLIGHT
BEGIN:STANDARD
TZOFFSETFROM:+0100
TZOFFSETTO:+0000
TZNAME:GMT
DTSTART:20251026T010000
END:STANDARD
BEGIN:DAYLIGHT
TZOFFSETFROM:+0000
TZOFFSETTO:+0100
TZNAME:BST
DTSTART:20260329T010000
END:DAYLIGHT
BEGIN:STANDARD
TZOFFSETFROM:+0100
TZOFFSETTO:+0000
TZNAME:GMT
DTSTART:20261025T010000
END:STANDARD
END:VTIMEZONE
BEGIN:VEVENT
DTSTART;TZID=Europe/London:20251121T100000
DTEND;TZID=Europe/London:20251121T170000
DTSTAMP:20260423T171421
CREATED:20251030T082308Z
LAST-MODIFIED:20251030T082308Z
UID:6867-1763719200-1763744400@kb.ct-group.com
SUMMARY:Milan Comms Training
DESCRIPTION:Content is protected.
URL:https://kb.ct-group.com/event/milan-comms-training/
LOCATION:E2 Creative Technology\, Unit E2\, Sussex Manor Business Park\, Crawley\, Sussex\, RH10 9NH\, United Kingdom
CATEGORIES:In house
END:VEVENT
BEGIN:VEVENT
DTSTART;TZID=Europe/London:20251120T100000
DTEND;TZID=Europe/London:20251120T170000
DTSTAMP:20260423T171421
CREATED:20251030T082308Z
LAST-MODIFIED:20251030T082308Z
UID:6863-1763632800-1763658000@kb.ct-group.com
SUMMARY:Milan Comms Training
DESCRIPTION:Content is protected.
URL:https://kb.ct-group.com/event/milan-comms-training-2/
LOCATION:E2 Creative Technology\, Unit E2\, Sussex Manor Business Park\, Crawley\, Sussex\, RH10 9NH\, United Kingdom
CATEGORIES:In house
END:VEVENT
BEGIN:VEVENT
DTSTART;TZID=Europe/London:20251119T100000
DTEND;TZID=Europe/London:20251119T170000
DTSTAMP:20260423T171421
CREATED:20251030T082308Z
LAST-MODIFIED:20251030T082308Z
UID:6861-1763546400-1763571600@kb.ct-group.com
SUMMARY:Milan Comms Training
DESCRIPTION:Content is protected.
URL:https://kb.ct-group.com/event/milan-comms-training-3/
LOCATION:E2 Creative Technology\, Unit E2\, Sussex Manor Business Park\, Crawley\, Sussex\, RH10 9NH\, United Kingdom
CATEGORIES:In house
END:VEVENT
BEGIN:VEVENT
DTSTART;TZID=Europe/London:20251118T100000
DTEND;TZID=Europe/London:20251118T170000
DTSTAMP:20260423T171421
CREATED:20251030T082308Z
LAST-MODIFIED:20251030T082308Z
UID:6859-1763460000-1763485200@kb.ct-group.com
SUMMARY:Milan Comms Training
DESCRIPTION:Content is protected.
URL:https://kb.ct-group.com/event/milan-comms-training-4/
LOCATION:E2 Creative Technology\, Unit E2\, Sussex Manor Business Park\, Crawley\, Sussex\, RH10 9NH\, United Kingdom
CATEGORIES:In house
END:VEVENT
BEGIN:VEVENT
DTSTART;TZID=Europe/London:20251117T100000
DTEND;TZID=Europe/London:20251117T170000
DTSTAMP:20260423T171421
CREATED:20251030T082308Z
LAST-MODIFIED:20251030T082308Z
UID:6853-1763373600-1763398800@kb.ct-group.com
SUMMARY:Milan Comms Training
DESCRIPTION:Content is protected.
URL:https://kb.ct-group.com/event/milan-comms-training-5/
LOCATION:E2 Creative Technology\, Unit E2\, Sussex Manor Business Park\, Crawley\, Sussex\, RH10 9NH\, United Kingdom
CATEGORIES:In house
END:VEVENT
BEGIN:VEVENT
DTSTART;TZID=Europe/London:20251114T100000
DTEND;TZID=Europe/London:20251114T170000
DTSTAMP:20260423T171421
CREATED:20251030T082308Z
LAST-MODIFIED:20251030T082308Z
UID:6857-1763114400-1763139600@kb.ct-group.com
SUMMARY:Milan Comms Training
DESCRIPTION:Content is protected.
URL:https://kb.ct-group.com/event/milan-comms-training-6/
LOCATION:E2 Creative Technology\, Unit E2\, Sussex Manor Business Park\, Crawley\, Sussex\, RH10 9NH\, United Kingdom
CATEGORIES:In house
END:VEVENT
BEGIN:VEVENT
DTSTART;TZID=Europe/London:20251113T100000
DTEND;TZID=Europe/London:20251113T170000
DTSTAMP:20260423T171421
CREATED:20251030T082308Z
LAST-MODIFIED:20251030T082308Z
UID:6855-1763028000-1763053200@kb.ct-group.com
SUMMARY:Milan Comms Training
DESCRIPTION:Content is protected.
URL:https://kb.ct-group.com/event/milan-comms-training-7/
LOCATION:E2 Creative Technology\, Unit E2\, Sussex Manor Business Park\, Crawley\, Sussex\, RH10 9NH\, United Kingdom
CATEGORIES:In house
END:VEVENT
BEGIN:VEVENT
DTSTART;TZID=Europe/London:20251112T100000
DTEND;TZID=Europe/London:20251112T170000
DTSTAMP:20260423T171421
CREATED:20251030T082308Z
LAST-MODIFIED:20251030T082308Z
UID:6851-1762941600-1762966800@kb.ct-group.com
SUMMARY:Milan Comms Training
DESCRIPTION:Content is protected.
URL:https://kb.ct-group.com/event/milan-comms-training-8/
LOCATION:E2 Creative Technology\, Unit E2\, Sussex Manor Business Park\, Crawley\, Sussex\, RH10 9NH\, United Kingdom
CATEGORIES:In house
END:VEVENT
BEGIN:VEVENT
DTSTART;TZID=Europe/London:20251111T100000
DTEND;TZID=Europe/London:20251111T170000
DTSTAMP:20260423T171421
CREATED:20251030T082308Z
LAST-MODIFIED:20251030T082308Z
UID:6849-1762855200-1762880400@kb.ct-group.com
SUMMARY:Milan Comms Training
DESCRIPTION:Content is protected.
URL:https://kb.ct-group.com/event/milan-comms-training-9/
LOCATION:E2 Creative Technology\, Unit E2\, Sussex Manor Business Park\, Crawley\, Sussex\, RH10 9NH\, United Kingdom
CATEGORIES:In house
END:VEVENT
BEGIN:VEVENT
DTSTART;TZID=Europe/London:20251110T100000
DTEND;TZID=Europe/London:20251110T170000
DTSTAMP:20260423T171421
CREATED:20251030T082308Z
LAST-MODIFIED:20251030T082308Z
UID:6846-1762768800-1762794000@kb.ct-group.com
SUMMARY:Milan Comms Training
DESCRIPTION:Content is protected.
URL:https://kb.ct-group.com/event/milan-comms-training-10/
LOCATION:E2 Creative Technology\, Unit E2\, Sussex Manor Business Park\, Crawley\, Sussex\, RH10 9NH\, United Kingdom
CATEGORIES:In house
END:VEVENT
BEGIN:VEVENT
DTSTART;TZID=Europe/London:20251006T100000
DTEND;TZID=Europe/London:20251006T170000
DTSTAMP:20260423T171421
CREATED:20250507T105042Z
LAST-MODIFIED:20250717T101426Z
UID:6406-1759744800-1759770000@kb.ct-group.com
SUMMARY:MiCo 2110 Training
DESCRIPTION:Content is protected.
URL:https://kb.ct-group.com/event/mico-2110-training-11/
LOCATION:E2 Creative Technology\, Unit E2\, Sussex Manor Business Park\, Crawley\, Sussex\, RH10 9NH\, United Kingdom
CATEGORIES:Face to Face,In house
END:VEVENT
BEGIN:VEVENT
DTSTART;TZID=Europe/London:20251003T100000
DTEND;TZID=Europe/London:20251003T170000
DTSTAMP:20260423T171421
CREATED:20250507T104822Z
LAST-MODIFIED:20250717T101449Z
UID:6404-1759485600-1759510800@kb.ct-group.com
SUMMARY:MiCo 2110 Training
DESCRIPTION:Content is protected.
URL:https://kb.ct-group.com/event/mico-2110-training-10/
LOCATION:E2 Creative Technology\, Unit E2\, Sussex Manor Business Park\, Crawley\, Sussex\, RH10 9NH\, United Kingdom
CATEGORIES:Face to Face,In house
END:VEVENT
BEGIN:VEVENT
DTSTART;TZID=Europe/London:20251002T100000
DTEND;TZID=Europe/London:20251002T170000
DTSTAMP:20260423T171421
CREATED:20250507T104716Z
LAST-MODIFIED:20250717T101609Z
UID:6402-1759399200-1759424400@kb.ct-group.com
SUMMARY:MiCo 2110 Training
DESCRIPTION:Content is protected.
URL:https://kb.ct-group.com/event/mico-2110-training-9/
LOCATION:E2 Creative Technology\, Unit E2\, Sussex Manor Business Park\, Crawley\, Sussex\, RH10 9NH\, United Kingdom
CATEGORIES:Face to Face,In house
END:VEVENT
BEGIN:VEVENT
DTSTART;TZID=Europe/London:20251001T100000
DTEND;TZID=Europe/London:20251001T170000
DTSTAMP:20260423T171421
CREATED:20250507T104611Z
LAST-MODIFIED:20250717T101631Z
UID:6400-1759312800-1759338000@kb.ct-group.com
SUMMARY:MiCo 2110 Training
DESCRIPTION:Content is protected.
URL:https://kb.ct-group.com/event/mico-2110-training-8/
LOCATION:E2 Creative Technology\, Unit E2\, Sussex Manor Business Park\, Crawley\, Sussex\, RH10 9NH\, United Kingdom
CATEGORIES:Face to Face,In house
END:VEVENT
BEGIN:VEVENT
DTSTART;TZID=Europe/London:20250930T100000
DTEND;TZID=Europe/London:20250930T170000
DTSTAMP:20260423T171421
CREATED:20250507T104516Z
LAST-MODIFIED:20250717T101654Z
UID:6398-1759226400-1759251600@kb.ct-group.com
SUMMARY:MiCo 2110 Training
DESCRIPTION:Content is protected.
URL:https://kb.ct-group.com/event/mico-2110-training-7/
LOCATION:E2 Creative Technology\, Unit E2\, Sussex Manor Business Park\, Crawley\, Sussex\, RH10 9NH\, United Kingdom
CATEGORIES:Face to Face,In house
END:VEVENT
BEGIN:VEVENT
DTSTART;TZID=Europe/London:20250929T100000
DTEND;TZID=Europe/London:20250929T170000
DTSTAMP:20260423T171421
CREATED:20250507T104404Z
LAST-MODIFIED:20250717T152115Z
UID:6396-1759140000-1759165200@kb.ct-group.com
SUMMARY:MiCo 2110 Training
DESCRIPTION:Content is protected.
URL:https://kb.ct-group.com/event/mico-2110-training-6/
LOCATION:E2 Creative Technology\, Unit E2\, Sussex Manor Business Park\, Crawley\, Sussex\, RH10 9NH\, United Kingdom
CATEGORIES:Face to Face,In house
END:VEVENT
BEGIN:VEVENT
DTSTART;TZID=Europe/London:20250812T100000
DTEND;TZID=Europe/London:20250812T170000
DTSTAMP:20260423T171421
CREATED:20250507T104220Z
LAST-MODIFIED:20250717T104420Z
UID:6394-1754992800-1755018000@kb.ct-group.com
SUMMARY:MiCo 2110 Training
DESCRIPTION:Content is protected.
URL:https://kb.ct-group.com/event/mico-2110-training-5/
LOCATION:E2 Creative Technology\, Unit E2\, Sussex Manor Business Park\, Crawley\, Sussex\, RH10 9NH\, United Kingdom
CATEGORIES:Face to Face,In house
END:VEVENT
BEGIN:VEVENT
DTSTART;TZID=Europe/London:20250811T100000
DTEND;TZID=Europe/London:20250811T170000
DTSTAMP:20260423T171421
CREATED:20250507T104113Z
LAST-MODIFIED:20250717T101805Z
UID:6392-1754906400-1754931600@kb.ct-group.com
SUMMARY:MiCo 2110 Training
DESCRIPTION:Content is protected.
URL:https://kb.ct-group.com/event/mico-2110-training-4/
LOCATION:E2 Creative Technology\, Unit E2\, Sussex Manor Business Park\, Crawley\, Sussex\, RH10 9NH\, United Kingdom
CATEGORIES:Face to Face,In house
END:VEVENT
BEGIN:VEVENT
DTSTART;TZID=Europe/London:20250806T100000
DTEND;TZID=Europe/London:20250806T170000
DTSTAMP:20260423T171421
CREATED:20250507T103955Z
LAST-MODIFIED:20250805T082107Z
UID:6390-1754474400-1754499600@kb.ct-group.com
SUMMARY:MiCo 2110 Training
DESCRIPTION:Content is protected.
URL:https://kb.ct-group.com/event/mico-2110-training-3/
LOCATION:E2 Creative Technology\, Unit E2\, Sussex Manor Business Park\, Crawley\, Sussex\, RH10 9NH\, United Kingdom
CATEGORIES:Face to Face,In house
END:VEVENT
BEGIN:VEVENT
DTSTART;TZID=Europe/London:20250805T100000
DTEND;TZID=Europe/London:20250805T170000
DTSTAMP:20260423T171421
CREATED:20250507T103741Z
LAST-MODIFIED:20250717T101855Z
UID:6388-1754388000-1754413200@kb.ct-group.com
SUMMARY:MiCo 2110 Training
DESCRIPTION:Content is protected.
URL:https://kb.ct-group.com/event/mico-2110-training-2/
LOCATION:E2 Creative Technology\, Unit E2\, Sussex Manor Business Park\, Crawley\, Sussex\, RH10 9NH\, United Kingdom
CATEGORIES:Face to Face,In house
END:VEVENT
BEGIN:VEVENT
DTSTART;TZID=Europe/London:20250804T100000
DTEND;TZID=Europe/London:20250804T170000
DTSTAMP:20260423T171421
CREATED:20250507T103255Z
LAST-MODIFIED:20250717T101935Z
UID:6384-1754301600-1754326800@kb.ct-group.com
SUMMARY:MiCo 2110 Training
DESCRIPTION:Content is protected.
URL:https://kb.ct-group.com/event/mico-2110-training/
LOCATION:E2 Creative Technology\, Unit E2\, Sussex Manor Business Park\, Crawley\, Sussex\, RH10 9NH\, United Kingdom
CATEGORIES:Face to Face,In house
END:VEVENT
BEGIN:VEVENT
DTSTART;TZID=Europe/London:20240612T090000
DTEND;TZID=Europe/London:20240613T180000
DTSTAMP:20260423T171421
CREATED:20240503T163237Z
LAST-MODIFIED:20240503T163402Z
UID:5000-1718182800-1718301600@kb.ct-group.com
SUMMARY:Advanced Pixera Training
DESCRIPTION:Advanced Pixera training for in house operators at CT.
URL:https://kb.ct-group.com/event/advanced-pixera-training/
LOCATION:E2 Creative Technology\, Unit E2\, Sussex Manor Business Park\, Crawley\, Sussex\, RH10 9NH\, United Kingdom
CATEGORIES:In house
ATTACH;FMTTYPE=image/png:https://kb.ct-group.com/wp-content/uploads/2024/01/pixera.png
END:VEVENT
BEGIN:VEVENT
DTSTART;TZID=Europe/London:20240610T090000
DTEND;TZID=Europe/London:20240611T180000
DTSTAMP:20260423T171421
CREATED:20240503T163006Z
LAST-MODIFIED:20240503T163006Z
UID:4994-1718010000-1718128800@kb.ct-group.com
SUMMARY:Pixera Basic Training
DESCRIPTION:Basic Pixera  training for in house operators at CT.
URL:https://kb.ct-group.com/event/pixera-basic-training/
LOCATION:E2 Creative Technology\, Unit E2\, Sussex Manor Business Park\, Crawley\, Sussex\, RH10 9NH\, United Kingdom
CATEGORIES:In house
ATTACH;FMTTYPE=image/png:https://kb.ct-group.com/wp-content/uploads/2024/01/pixera.png
END:VEVENT
END:VCALENDAR