BEGIN:VCALENDAR
VERSION:2.0
PRODID:-//CT Knowledge Base - ECPv6.15.20//NONSGML v1.0//EN
CALSCALE:GREGORIAN
METHOD:PUBLISH
X-ORIGINAL-URL:https://kb.ct-group.com
X-WR-CALDESC:Events for CT Knowledge Base
REFRESH-INTERVAL;VALUE=DURATION:PT1H
X-Robots-Tag:noindex
X-PUBLISHED-TTL:PT1H
BEGIN:VTIMEZONE
TZID:Europe/London
BEGIN:DAYLIGHT
TZOFFSETFROM:+0000
TZOFFSETTO:+0100
TZNAME:BST
DTSTART:20230326T010000
END:DAYLIGHT
BEGIN:STANDARD
TZOFFSETFROM:+0100
TZOFFSETTO:+0000
TZNAME:GMT
DTSTART:20231029T010000
END:STANDARD
BEGIN:DAYLIGHT
TZOFFSETFROM:+0000
TZOFFSETTO:+0100
TZNAME:BST
DTSTART:20240331T010000
END:DAYLIGHT
BEGIN:STANDARD
TZOFFSETFROM:+0100
TZOFFSETTO:+0000
TZNAME:GMT
DTSTART:20241027T010000
END:STANDARD
BEGIN:DAYLIGHT
TZOFFSETFROM:+0000
TZOFFSETTO:+0100
TZNAME:BST
DTSTART:20250330T010000
END:DAYLIGHT
BEGIN:STANDARD
TZOFFSETFROM:+0100
TZOFFSETTO:+0000
TZNAME:GMT
DTSTART:20251026T010000
END:STANDARD
BEGIN:DAYLIGHT
TZOFFSETFROM:+0000
TZOFFSETTO:+0100
TZNAME:BST
DTSTART:20260329T010000
END:DAYLIGHT
BEGIN:STANDARD
TZOFFSETFROM:+0100
TZOFFSETTO:+0000
TZNAME:GMT
DTSTART:20261025T010000
END:STANDARD
END:VTIMEZONE
BEGIN:VEVENT
DTSTART;TZID=Europe/London:20251006T100000
DTEND;TZID=Europe/London:20251006T170000
DTSTAMP:20260424T004438
CREATED:20250507T105042Z
LAST-MODIFIED:20250717T101426Z
UID:6406-1759744800-1759770000@kb.ct-group.com
SUMMARY:MiCo 2110 Training
DESCRIPTION:Content is protected.
URL:https://kb.ct-group.com/event/mico-2110-training-11/
LOCATION:E2 Creative Technology\, Unit E2\, Sussex Manor Business Park\, Crawley\, Sussex\, RH10 9NH\, United Kingdom
CATEGORIES:Face to Face,In house
END:VEVENT
BEGIN:VEVENT
DTSTART;TZID=Europe/London:20251003T100000
DTEND;TZID=Europe/London:20251003T170000
DTSTAMP:20260424T004438
CREATED:20250507T104822Z
LAST-MODIFIED:20250717T101449Z
UID:6404-1759485600-1759510800@kb.ct-group.com
SUMMARY:MiCo 2110 Training
DESCRIPTION:Content is protected.
URL:https://kb.ct-group.com/event/mico-2110-training-10/
LOCATION:E2 Creative Technology\, Unit E2\, Sussex Manor Business Park\, Crawley\, Sussex\, RH10 9NH\, United Kingdom
CATEGORIES:Face to Face,In house
END:VEVENT
BEGIN:VEVENT
DTSTART;TZID=Europe/London:20251002T100000
DTEND;TZID=Europe/London:20251002T170000
DTSTAMP:20260424T004438
CREATED:20250507T104716Z
LAST-MODIFIED:20250717T101609Z
UID:6402-1759399200-1759424400@kb.ct-group.com
SUMMARY:MiCo 2110 Training
DESCRIPTION:Content is protected.
URL:https://kb.ct-group.com/event/mico-2110-training-9/
LOCATION:E2 Creative Technology\, Unit E2\, Sussex Manor Business Park\, Crawley\, Sussex\, RH10 9NH\, United Kingdom
CATEGORIES:Face to Face,In house
END:VEVENT
BEGIN:VEVENT
DTSTART;TZID=Europe/London:20251001T100000
DTEND;TZID=Europe/London:20251001T170000
DTSTAMP:20260424T004438
CREATED:20250507T104611Z
LAST-MODIFIED:20250717T101631Z
UID:6400-1759312800-1759338000@kb.ct-group.com
SUMMARY:MiCo 2110 Training
DESCRIPTION:Content is protected.
URL:https://kb.ct-group.com/event/mico-2110-training-8/
LOCATION:E2 Creative Technology\, Unit E2\, Sussex Manor Business Park\, Crawley\, Sussex\, RH10 9NH\, United Kingdom
CATEGORIES:Face to Face,In house
END:VEVENT
BEGIN:VEVENT
DTSTART;TZID=Europe/London:20250930T100000
DTEND;TZID=Europe/London:20250930T170000
DTSTAMP:20260424T004438
CREATED:20250507T104516Z
LAST-MODIFIED:20250717T101654Z
UID:6398-1759226400-1759251600@kb.ct-group.com
SUMMARY:MiCo 2110 Training
DESCRIPTION:Content is protected.
URL:https://kb.ct-group.com/event/mico-2110-training-7/
LOCATION:E2 Creative Technology\, Unit E2\, Sussex Manor Business Park\, Crawley\, Sussex\, RH10 9NH\, United Kingdom
CATEGORIES:Face to Face,In house
END:VEVENT
BEGIN:VEVENT
DTSTART;TZID=Europe/London:20250929T100000
DTEND;TZID=Europe/London:20250929T170000
DTSTAMP:20260424T004438
CREATED:20250507T104404Z
LAST-MODIFIED:20250717T152115Z
UID:6396-1759140000-1759165200@kb.ct-group.com
SUMMARY:MiCo 2110 Training
DESCRIPTION:Content is protected.
URL:https://kb.ct-group.com/event/mico-2110-training-6/
LOCATION:E2 Creative Technology\, Unit E2\, Sussex Manor Business Park\, Crawley\, Sussex\, RH10 9NH\, United Kingdom
CATEGORIES:Face to Face,In house
END:VEVENT
BEGIN:VEVENT
DTSTART;TZID=Europe/London:20250812T100000
DTEND;TZID=Europe/London:20250812T170000
DTSTAMP:20260424T004438
CREATED:20250507T104220Z
LAST-MODIFIED:20250717T104420Z
UID:6394-1754992800-1755018000@kb.ct-group.com
SUMMARY:MiCo 2110 Training
DESCRIPTION:Content is protected.
URL:https://kb.ct-group.com/event/mico-2110-training-5/
LOCATION:E2 Creative Technology\, Unit E2\, Sussex Manor Business Park\, Crawley\, Sussex\, RH10 9NH\, United Kingdom
CATEGORIES:Face to Face,In house
END:VEVENT
BEGIN:VEVENT
DTSTART;TZID=Europe/London:20250811T100000
DTEND;TZID=Europe/London:20250811T170000
DTSTAMP:20260424T004438
CREATED:20250507T104113Z
LAST-MODIFIED:20250717T101805Z
UID:6392-1754906400-1754931600@kb.ct-group.com
SUMMARY:MiCo 2110 Training
DESCRIPTION:Content is protected.
URL:https://kb.ct-group.com/event/mico-2110-training-4/
LOCATION:E2 Creative Technology\, Unit E2\, Sussex Manor Business Park\, Crawley\, Sussex\, RH10 9NH\, United Kingdom
CATEGORIES:Face to Face,In house
END:VEVENT
BEGIN:VEVENT
DTSTART;TZID=Europe/London:20250806T100000
DTEND;TZID=Europe/London:20250806T170000
DTSTAMP:20260424T004438
CREATED:20250507T103955Z
LAST-MODIFIED:20250805T082107Z
UID:6390-1754474400-1754499600@kb.ct-group.com
SUMMARY:MiCo 2110 Training
DESCRIPTION:Content is protected.
URL:https://kb.ct-group.com/event/mico-2110-training-3/
LOCATION:E2 Creative Technology\, Unit E2\, Sussex Manor Business Park\, Crawley\, Sussex\, RH10 9NH\, United Kingdom
CATEGORIES:Face to Face,In house
END:VEVENT
BEGIN:VEVENT
DTSTART;TZID=Europe/London:20250805T100000
DTEND;TZID=Europe/London:20250805T170000
DTSTAMP:20260424T004438
CREATED:20250507T103741Z
LAST-MODIFIED:20250717T101855Z
UID:6388-1754388000-1754413200@kb.ct-group.com
SUMMARY:MiCo 2110 Training
DESCRIPTION:Content is protected.
URL:https://kb.ct-group.com/event/mico-2110-training-2/
LOCATION:E2 Creative Technology\, Unit E2\, Sussex Manor Business Park\, Crawley\, Sussex\, RH10 9NH\, United Kingdom
CATEGORIES:Face to Face,In house
END:VEVENT
BEGIN:VEVENT
DTSTART;TZID=Europe/London:20250804T100000
DTEND;TZID=Europe/London:20250804T170000
DTSTAMP:20260424T004438
CREATED:20250507T103255Z
LAST-MODIFIED:20250717T101935Z
UID:6384-1754301600-1754326800@kb.ct-group.com
SUMMARY:MiCo 2110 Training
DESCRIPTION:Content is protected.
URL:https://kb.ct-group.com/event/mico-2110-training/
LOCATION:E2 Creative Technology\, Unit E2\, Sussex Manor Business Park\, Crawley\, Sussex\, RH10 9NH\, United Kingdom
CATEGORIES:Face to Face,In house
END:VEVENT
BEGIN:VEVENT
DTSTART;TZID=Europe/London:20241001T090000
DTEND;TZID=Europe/London:20241003T160000
DTSTAMP:20260424T004438
CREATED:20240811T123939Z
LAST-MODIFIED:20240811T124314Z
UID:5404-1727773200-1727971200@kb.ct-group.com
SUMMARY:Pixera Operator Training
DESCRIPTION:Aimed at Media Server Operators\, this instructor led course for PIXERA Software and Hardware lays the foundation of PIXERA’s ease of use and powerful capabilities. \nIn this AV Stumpfl PIXERA Operator Training\, participants will be introduced to the key aspects of working with the popular PIXERA media server platform for professional AV projects. In addition to covering the foundations of PIXERA\, this three-day course will equip participants with the skills needed for more complex workflow scenarios. Each participant will have their own allocated training kit\, maximising the learning experience. \nThe Official Operator Training is the perfect introduction to the versatile world of our acclaimed real-time media processing\, compositing\, and management system. Combining direct instruction with practical exercises\, the course will guide participants through the setup of a live event\, from design to final playout. Participants will come away from the training with a solid understanding of both the software and hardware capabilities and workflow.
URL:https://kb.ct-group.com/event/pixera-operator-training/
LOCATION:Pixera UK Office\, The Charter Building\, Charter Place\, London\, UB8 1JG\, United Kingdom
CATEGORIES:Face to Face
ATTACH;FMTTYPE=image/jpeg:https://kb.ct-group.com/wp-content/uploads/2024/08/PIXERA20Face-to-Face20Trainings20Thumbnails20Chris20Norman-QSzQrl3f9IFO7eaKsWiPbcclN6YezL-e1723380131585.jpg
END:VEVENT
END:VCALENDAR